BEGIN:VCALENDAR
VERSION:2.0
PRODID:-//91.233.84.230//NONSGML kigkonsult.se iCalcreator 2.20//
CALSCALE:GREGORIAN
METHOD:PUBLISH
X-WR-TIMEZONE:UTC
BEGIN:VEVENT
UID:event1092@Nationalparkgemeinde Vöhl am Edersee
DTSTAMP:20260421T122827Z
CATEGORIES:Feste in den Ortsteilen
DESCRIPTION:Schlossgartenfest\nKategorie: Feste in den Ortsteilen\nICS-Link
 : https://voehl.de/index.php?option=com_jem&view=event&id=1092:schlossgart
 enfest\n
DTSTART;VALUE=DATE:20260829
DTEND;VALUE=DATE:20260831
LOCATION:Schlossgarten Vöhl\,Schlossstraße 1-3\,34516 Vöhl\,Germany
SUMMARY:Schlossgartenfest
URL:https://voehl.de/index.php?option=com_jem&view=event&id=1092:schlossgar
 tenfest
END:VEVENT
END:VCALENDAR