BEGIN:VCALENDAR
VERSION:2.0
PRODID:-//91.233.84.230//NONSGML kigkonsult.se iCalcreator 2.20//
CALSCALE:GREGORIAN
METHOD:PUBLISH
X-WR-TIMEZONE:UTC
BEGIN:VEVENT
UID:event1306@Nationalparkgemeinde Vöhl am Edersee
DTSTAMP:20260421T122924Z
CATEGORIES:Sport\, Fitness und Freizeit
DESCRIPTION:Saisonabschluss Sportfreunde Ederbringhausen\nKategorie: Sport\
 , Fitness und Freizeit\nICS-Link: https://voehl.de/index.php?option=com_je
 m&view=event&id=1306:saisonabschluss-sportfreunde-ederbringhausen\n
DTSTART;VALUE=DATE:20260523
DTEND;VALUE=DATE:20260524
LOCATION:Sportplatz Ederbringhausen\,Zum Sportplatz\,34516 Ederbringhausen\
 ,Germany
SUMMARY:Saisonabschluss Sportfreunde Ederbringhausen
URL:https://voehl.de/index.php?option=com_jem&view=event&id=1306:saisonabsc
 hluss-sportfreunde-ederbringhausen
END:VEVENT
END:VCALENDAR