BEGIN:VCALENDAR
VERSION:2.0
PRODID:-//91.233.84.230//NONSGML kigkonsult.se iCalcreator 2.20//
CALSCALE:GREGORIAN
METHOD:PUBLISH
X-WR-TIMEZONE:UTC
BEGIN:VEVENT
UID:event1174@Nationalparkgemeinde Vöhl am Edersee
DTSTAMP:20260421T121632Z
CATEGORIES:Kultur
DESCRIPTION:Adventsfenster Dorfitter\nKategorie: Kultur\nICS-Link: https://
 voehl.de/index.php?option=com_jem&view=event&id=1174:adventsfenster-dorfit
 ter\n
DTSTART;VALUE=DATE:20261201
DTEND;VALUE=DATE:20261225
LOCATION:Ortsteil Dorfitter
SUMMARY:Adventsfenster Dorfitter
URL:https://voehl.de/index.php?option=com_jem&view=event&id=1174:adventsfen
 ster-dorfitter
END:VEVENT
BEGIN:VEVENT
UID:event1181@Nationalparkgemeinde Vöhl am Edersee
DTSTAMP:20260421T121632Z
CATEGORIES:Kultur
DESCRIPTION:Der Nikolaus kommt\nKategorie: Kultur\nICS-Link: https://voehl.
 de/index.php?option=com_jem&view=event&id=1181:der-nikolaus-kommt\n
DTSTART;VALUE=DATE:20261206
DTEND;VALUE=DATE:20261207
LOCATION:Ortsteil Dorfitter
SUMMARY:Der Nikolaus kommt
URL:https://voehl.de/index.php?option=com_jem&view=event&id=1181:der-nikola
 us-kommt
END:VEVENT
BEGIN:VEVENT
UID:event1223@Nationalparkgemeinde Vöhl am Edersee
DTSTAMP:20260421T121632Z
CATEGORIES:Feste in den Ortsteilen
DESCRIPTION:Dorfjubiläum 900 Jahre Dorfitter\nKategorie: Feste in den Ortst
 eilen\nICS-Link: https://voehl.de/index.php?option=com_jem&view=event&id=1
 223:dorfjubilaeum-900-jahre-dorfitter\n
DTSTART;VALUE=DATE:20260604
DTEND;VALUE=DATE:20260608
LOCATION:Ortsteil Dorfitter
SUMMARY:Dorfjubiläum 900 Jahre Dorfitter
URL:https://voehl.de/index.php?option=com_jem&view=event&id=1223:dorfjubila
 eum-900-jahre-dorfitter
END:VEVENT
BEGIN:VEVENT
UID:event1170@Nationalparkgemeinde Vöhl am Edersee
DTSTAMP:20260421T121632Z
CATEGORIES:Kindergärten
DESCRIPTION:Laternenumzug\nKategorie: Kindergärten\nICS-Link: https://voehl
 .de/index.php?option=com_jem&view=event&id=1170:laternenumzug\n
DTSTART;VALUE=DATE:20261111
DTEND;VALUE=DATE:20261112
LOCATION:Ortsteil Dorfitter
SUMMARY:Laternenumzug
URL:https://voehl.de/index.php?option=com_jem&view=event&id=1170:laternenum
 zug
END:VEVENT
BEGIN:VEVENT
UID:event1183@Nationalparkgemeinde Vöhl am Edersee
DTSTAMP:20260421T121632Z
CATEGORIES:(Land-)Frauen
DESCRIPTION:Weihnachtsfeier Landfrauen\nKategorie: (Land-)Frauen\nICS-Link:
  https://voehl.de/index.php?option=com_jem&view=event&id=1183:weihnachtsfe
 ier-landfrauen\n
DTSTART;VALUE=DATE:20261212
DTEND;VALUE=DATE:20261213
LOCATION:Ortsteil Dorfitter
SUMMARY:Weihnachtsfeier Landfrauen
URL:https://voehl.de/index.php?option=com_jem&view=event&id=1183:weihnachts
 feier-landfrauen
END:VEVENT
BEGIN:VEVENT
UID:event1228@Nationalparkgemeinde Vöhl am Edersee
DTSTAMP:20260421T121632Z
CATEGORIES:Sport\, Fitness und Freizeit
DESCRIPTION:Fahrradtour Freizeitsportgruppe Dorfitter\nKategorie: Sport\, F
 itness und Freizeit\nICS-Link: https://voehl.de/index.php?option=com_jem&v
 iew=event&id=1228:fahrradtour-freizeitsportgruppe-dorfitter\n
DTSTART:20260621T093000Z
DTEND:20260621T093000Z
LOCATION:Ortsteil Dorfitter
SUMMARY:Fahrradtour Freizeitsportgruppe Dorfitter
URL:https://voehl.de/index.php?option=com_jem&view=event&id=1228:fahrradtou
 r-freizeitsportgruppe-dorfitter
END:VEVENT
BEGIN:VEVENT
UID:event1081@Nationalparkgemeinde Vöhl am Edersee
DTSTAMP:20260421T121632Z
CATEGORIES:Senioren
DESCRIPTION:Seniorengrillnachmittag\nKategorie: Senioren\nICS-Link: https:/
 /voehl.de/index.php?option=com_jem&view=event&id=1081:seniorengrillnachmit
 tag\n
DTSTART:20260716T160000Z
DTEND:20260716T160000Z
LOCATION:Ortsteil Dorfitter
SUMMARY:Seniorengrillnachmittag
URL:https://voehl.de/index.php?option=com_jem&view=event&id=1081:seniorengr
 illnachmittag
END:VEVENT
END:VCALENDAR