BEGIN:VCALENDAR
VERSION:2.0
PRODID:-//91.233.84.230//NONSGML kigkonsult.se iCalcreator 2.20//
CALSCALE:GREGORIAN
METHOD:PUBLISH
X-WR-TIMEZONE:UTC
BEGIN:VEVENT
UID:event1100@Nationalparkgemeinde Vöhl am Edersee
DTSTAMP:20260421T154211Z
CATEGORIES:Feuerwehren
DESCRIPTION:50 Jahre Jugendfeuerwehr mit Zeltlager\nKategorie: Feuerwehren
 \nICS-Link: https://voehl.de/index.php?option=com_jem&view=event&id=1100:5
 0-jahre-jugendfeuerwehr-mit-zeltlager\n
DTSTART;VALUE=DATE:20260814
DTEND;VALUE=DATE:20260817
LOCATION:Sportplatz Marienhagen\,Am Sportplatz 8\,34516 Vöhl-Marienhagen
SUMMARY:50 Jahre Jugendfeuerwehr mit Zeltlager
URL:https://voehl.de/index.php?option=com_jem&view=event&id=1100:50-jahre-j
 ugendfeuerwehr-mit-zeltlager
END:VEVENT
END:VCALENDAR