BEGIN:VCALENDAR
VERSION:2.0
PRODID:-//91.233.84.230//NONSGML kigkonsult.se iCalcreator 2.20//
CALSCALE:GREGORIAN
METHOD:PUBLISH
X-WR-TIMEZONE:UTC
BEGIN:VEVENT
UID:event1297@Nationalparkgemeinde Vöhl am Edersee
DTSTAMP:20260421T122832Z
CATEGORIES:Sonstige
DESCRIPTION:Muttertagsbrunch (mit Anmeldung)\nKategorie: Sonstige\nICS-Link
 : https://voehl.de/index.php?option=com_jem&view=event&id=1297:muttertagsb
 runch-mit-anmeldung\n
DTSTART;VALUE=DATE:20260510
DTEND;VALUE=DATE:20260511
LOCATION:Orketalhalle Ederbringhausen\,Herzbergstraße 3\,34516 Vöhl-Ederbri
 nghausen
SUMMARY:Muttertagsbrunch (mit Anmeldung)
URL:https://voehl.de/index.php?option=com_jem&view=event&id=1297:muttertags
 brunch-mit-anmeldung
END:VEVENT
BEGIN:VEVENT
UID:event1126@Nationalparkgemeinde Vöhl am Edersee
DTSTAMP:20260421T122832Z
CATEGORIES:Sport\, Fitness und Freizeit
DESCRIPTION:JHV Sportfreunde\nKategorie: Sport\, Fitness und Freizeit\nICS-
 Link: https://voehl.de/index.php?option=com_jem&view=event&id=1126:jhv-spo
 rtfreunde\n
DTSTART:20261016T200000Z
DTEND:20261016T200000Z
LOCATION:Orketalhalle Ederbringhausen\,Herzbergstraße 3\,34516 Vöhl-Ederbri
 nghausen
SUMMARY:JHV Sportfreunde
URL:https://voehl.de/index.php?option=com_jem&view=event&id=1126:jhv-sportf
 reunde
END:VEVENT
END:VCALENDAR