BEGIN:VCALENDAR
VERSION:2.0
PRODID:-//91.233.84.230//NONSGML kigkonsult.se iCalcreator 2.20//
CALSCALE:GREGORIAN
METHOD:PUBLISH
X-WR-TIMEZONE:UTC
BEGIN:VEVENT
UID:event1133@Nationalparkgemeinde Vöhl am Edersee
DTSTAMP:20260421T151701Z
CATEGORIES:(Land-)Frauen
DESCRIPTION:Geschenketruhe\nKategorie: (Land-)Frauen\nICS-Link: https://voe
 hl.de/index.php?option=com_jem&view=event&id=1133:geschenketruhe\n
DTSTART:20261101T110000Z
DTEND:20261101T170000Z
LOCATION:DGH Asel\,Zum Wehrholz 19\,34516 Vöhl-Asel
SUMMARY:Geschenketruhe
URL:https://voehl.de/index.php?option=com_jem&view=event&id=1133:geschenket
 ruhe
END:VEVENT
END:VCALENDAR