BEGIN:VCALENDAR
VERSION:2.0
PRODID:-//91.233.84.230//NONSGML kigkonsult.se iCalcreator 2.20//
CALSCALE:GREGORIAN
METHOD:PUBLISH
X-WR-TIMEZONE:UTC
BEGIN:VEVENT
UID:event1174@Nationalparkgemeinde Vöhl am Edersee
DTSTAMP:20260421T104716Z
CATEGORIES:Kultur
DESCRIPTION:Adventsfenster Dorfitter\nKategorie: Kultur\nICS-Link: https://
 voehl.de/index.php?option=com_jem&view=event&id=1174:adventsfenster-dorfit
 ter\n
DTSTART;VALUE=DATE:20261201
DTEND;VALUE=DATE:20261225
LOCATION:Ortsteil Dorfitter
SUMMARY:Adventsfenster Dorfitter
URL:https://voehl.de/index.php?option=com_jem&view=event&id=1174:adventsfen
 ster-dorfitter
END:VEVENT
BEGIN:VEVENT
UID:event1181@Nationalparkgemeinde Vöhl am Edersee
DTSTAMP:20260421T104716Z
CATEGORIES:Kultur
DESCRIPTION:Der Nikolaus kommt\nKategorie: Kultur\nICS-Link: https://voehl.
 de/index.php?option=com_jem&view=event&id=1181:der-nikolaus-kommt\n
DTSTART;VALUE=DATE:20261206
DTEND;VALUE=DATE:20261207
LOCATION:Ortsteil Dorfitter
SUMMARY:Der Nikolaus kommt
URL:https://voehl.de/index.php?option=com_jem&view=event&id=1181:der-nikola
 us-kommt
END:VEVENT
BEGIN:VEVENT
UID:event1233@Nationalparkgemeinde Vöhl am Edersee
DTSTAMP:20260421T104716Z
CATEGORIES:Kultur
DESCRIPTION:Führungen durch die Synagoge\nKategorie: Kultur\nICS-Link: http
 s://voehl.de/index.php?option=com_jem&view=event&id=1233:fuehrungen-durch-
 die-synagoge\n
DTSTART;VALUE=DATE:20260629
DTEND;VALUE=DATE:20260704
LOCATION:Synagoge Vöhl\,Mittelgasse 4\,34516 Vöhl
SUMMARY:Führungen durch die Synagoge
URL:https://voehl.de/index.php?option=com_jem&view=event&id=1233:fuehrungen
 -durch-die-synagoge
END:VEVENT
BEGIN:VEVENT
UID:event1191@Nationalparkgemeinde Vöhl am Edersee
DTSTAMP:20260421T104716Z
CATEGORIES:Kultur
DESCRIPTION:Nikolausabend\nKategorie: Kultur\nICS-Link: https://voehl.de/in
 dex.php?option=com_jem&view=event&id=1191:nikolausabend\n
DTSTART;VALUE=DATE:20261206
DTEND;VALUE=DATE:20261207
LOCATION:Vereinsheim in Vöhl\,34516 Vöhl\,Germany
SUMMARY:Nikolausabend
URL:https://voehl.de/index.php?option=com_jem&view=event&id=1191:nikolausab
 end
END:VEVENT
BEGIN:VEVENT
UID:event1121@Nationalparkgemeinde Vöhl am Edersee
DTSTAMP:20260421T104716Z
CATEGORIES:Kultur
DESCRIPTION:Oktoberfest Vöhler Stuben\nKategorie: Kultur\nICS-Link: https:/
 /voehl.de/index.php?option=com_jem&view=event&id=1121:oktoberfest-voehler-
 stuben\n
DTSTART;VALUE=DATE:20260913
DTEND;VALUE=DATE:20260914
LOCATION: Vöhler Stuben Landgasthaus\, Basdorfer Straße 12\,34516 Vöhl\,Ger
 many
SUMMARY:Oktoberfest Vöhler Stuben
URL:https://voehl.de/index.php?option=com_jem&view=event&id=1121:oktoberfes
 t-voehler-stuben
END:VEVENT
BEGIN:VEVENT
UID:event1148@Nationalparkgemeinde Vöhl am Edersee
DTSTAMP:20260421T104716Z
CATEGORIES:Kultur
DESCRIPTION:Weihnachtsbaum aufstellen\nKategorie: Kultur\nICS-Link: https:/
 /voehl.de/index.php?option=com_jem&view=event&id=1148:weihnachtsbaum-aufst
 ellen\n
DTSTART;VALUE=DATE:20261121
DTEND;VALUE=DATE:20261122
LOCATION:Ortsteil Ederbringhausen
SUMMARY:Weihnachtsbaum aufstellen
URL:https://voehl.de/index.php?option=com_jem&view=event&id=1148:weihnachts
 baum-aufstellen
END:VEVENT
BEGIN:VEVENT
UID:event1138@Nationalparkgemeinde Vöhl am Edersee
DTSTAMP:20260421T104716Z
CATEGORIES:Kultur
DESCRIPTION:Wintermarkt\nKategorie: Kultur\nICS-Link: https://voehl.de/inde
 x.php?option=com_jem&view=event&id=1138:wintermarkt\n
DTSTART;VALUE=DATE:20261129
DTEND;VALUE=DATE:20261130
LOCATION: Vöhler Stuben Landgasthaus\, Basdorfer Straße 12\,34516 Vöhl\,Ger
 many
SUMMARY:Wintermarkt
URL:https://voehl.de/index.php?option=com_jem&view=event&id=1138:wintermark
 t
END:VEVENT
BEGIN:VEVENT
UID:event1134@Nationalparkgemeinde Vöhl am Edersee
DTSTAMP:20260421T104716Z
CATEGORIES:Kultur
DESCRIPTION:5. Dorffrühstück\nKategorie: Kultur\nICS-Link: https://voehl.de
 /index.php?option=com_jem&view=event&id=1134:5-dorffruehstueck\n
DTSTART:20261101T090000Z
DTEND:20261101T090000Z
LOCATION:Bürgerhaus 'Alte Schule' Herzhausen\,Ederstraße 12\,34516 Vöhl-Her
 zhausen
SUMMARY:5. Dorffrühstück
URL:https://voehl.de/index.php?option=com_jem&view=event&id=1134:5-dorffrue
 hstueck
END:VEVENT
BEGIN:VEVENT
UID:event1146@Nationalparkgemeinde Vöhl am Edersee
DTSTAMP:20260421T104716Z
CATEGORIES:Kultur
DESCRIPTION:Weihnachtsbaum aufstellen\nKategorie: Kultur\nICS-Link: https:/
 /voehl.de/index.php?option=com_jem&view=event&id=1146:weihnachtsbaum-aufst
 ellen\n
DTSTART:20261121T093000Z
DTEND:20261121T093000Z
LOCATION:Dorfplatz Dorfitter\, Kirchstraße 5\,34516 Dorfitter\,Germany
SUMMARY:Weihnachtsbaum aufstellen
URL:https://voehl.de/index.php?option=com_jem&view=event&id=1146:weihnachts
 baum-aufstellen
END:VEVENT
BEGIN:VEVENT
UID:event1127@Nationalparkgemeinde Vöhl am Edersee
DTSTAMP:20260421T104716Z
CATEGORIES:Kultur
DESCRIPTION:Kartoffelfest\nKategorie: Kultur\nICS-Link: https://voehl.de/in
 dex.php?option=com_jem&view=event&id=1127:kartoffelfest\n
DTSTART:20261003T110000Z
DTEND:20261003T110000Z
LOCATION:Feuerwehrhaus Dorfitter\,Kirchstraße 10\,34516 Vöhl-Dorfitter\,Ger
 many
SUMMARY:Kartoffelfest
URL:https://voehl.de/index.php?option=com_jem&view=event&id=1127:kartoffelf
 est
END:VEVENT
BEGIN:VEVENT
UID:event1137@Nationalparkgemeinde Vöhl am Edersee
DTSTAMP:20260421T104716Z
CATEGORIES:Kultur
DESCRIPTION:Weihnachtsmarkt\nKategorie: Kultur\nICS-Link: https://voehl.de/
 index.php?option=com_jem&view=event&id=1137:weihnachtsmarkt\n
DTSTART:20261128T130000Z
DTEND:20261129T110000Z
LOCATION:DGH Obernburg\,Wilhelmstraße 3\,34516 Vöhl-Obernburg
SUMMARY:Weihnachtsmarkt
URL:https://voehl.de/index.php?option=com_jem&view=event&id=1137:weihnachts
 markt
END:VEVENT
BEGIN:VEVENT
UID:event1283@Nationalparkgemeinde Vöhl am Edersee
DTSTAMP:20260421T104716Z
CATEGORIES:Kultur
DESCRIPTION:Literaturcafé mit Kaffee und Kuchen\nKategorie: Kultur\nICS-Lin
 k: https://voehl.de/index.php?option=com_jem&view=event&id=1283:literaturc
 afe-mit-kaffee-und-kuchen\n
DTSTART:20260426T150000Z
DTEND:20260426T150000Z
LOCATION:Synagoge Vöhl\,Mittelgasse 4\,34516 Vöhl
SUMMARY:Literaturcafé mit Kaffee und Kuchen
URL:https://voehl.de/index.php?option=com_jem&view=event&id=1283:literaturc
 afe-mit-kaffee-und-kuchen
END:VEVENT
BEGIN:VEVENT
UID:event1224@Nationalparkgemeinde Vöhl am Edersee
DTSTAMP:20260421T104716Z
CATEGORIES:Kultur
DESCRIPTION:Offene Synagoge\nKategorie: Kultur\nICS-Link: https://voehl.de/
 index.php?option=com_jem&view=event&id=1224:offene-synagoge\n
DTSTART:20260614T150000Z
DTEND:20260614T170000Z
LOCATION:Synagoge Vöhl\,Mittelgasse 4\,34516 Vöhl
SUMMARY:Offene Synagoge
URL:https://voehl.de/index.php?option=com_jem&view=event&id=1224:offene-syn
 agoge
END:VEVENT
BEGIN:VEVENT
UID:event1232@Nationalparkgemeinde Vöhl am Edersee
DTSTAMP:20260421T104716Z
CATEGORIES:Kultur
DESCRIPTION:Offene Synagoge\nKategorie: Kultur\nICS-Link: https://voehl.de/
 index.php?option=com_jem&view=event&id=1232:offene-synagoge\n
DTSTART:20260628T150000Z
DTEND:20260628T170000Z
LOCATION:Synagoge Vöhl\,Mittelgasse 4\,34516 Vöhl
SUMMARY:Offene Synagoge
URL:https://voehl.de/index.php?option=com_jem&view=event&id=1232:offene-syn
 agoge
END:VEVENT
BEGIN:VEVENT
UID:event1189@Nationalparkgemeinde Vöhl am Edersee
DTSTAMP:20260421T104716Z
CATEGORIES:Kultur
DESCRIPTION:Der Nikolaus kommt\nKategorie: Kultur\nICS-Link: https://voehl.
 de/index.php?option=com_jem&view=event&id=1189:der-nikolaus-kommt\n
DTSTART:20261206T160000Z
DTEND:20261206T160000Z
LOCATION:Bürgerhaus 'Alte Schule' Herzhausen\,Ederstraße 12\,34516 Vöhl-Her
 zhausen
SUMMARY:Der Nikolaus kommt
URL:https://voehl.de/index.php?option=com_jem&view=event&id=1189:der-nikola
 us-kommt
END:VEVENT
BEGIN:VEVENT
UID:event1190@Nationalparkgemeinde Vöhl am Edersee
DTSTAMP:20260421T104716Z
CATEGORIES:Kultur
DESCRIPTION:Nikolausfeier\nKategorie: Kultur\nICS-Link: https://voehl.de/in
 dex.php?option=com_jem&view=event&id=1190:nikolausfeier\n
DTSTART:20261206T160000Z
DTEND:20261206T160000Z
LOCATION:DGH Obernburg\,Wilhelmstraße 3\,34516 Vöhl-Obernburg
SUMMARY:Nikolausfeier
URL:https://voehl.de/index.php?option=com_jem&view=event&id=1190:nikolausfe
 ier
END:VEVENT
BEGIN:VEVENT
UID:event1171@Nationalparkgemeinde Vöhl am Edersee
DTSTAMP:20260421T104716Z
CATEGORIES:Kultur
DESCRIPTION:Laternenumzug\nKategorie: Kultur\nICS-Link: https://voehl.de/in
 dex.php?option=com_jem&view=event&id=1171:laternenumzug\n
DTSTART:20261114T170000Z
DTEND:20261114T170000Z
LOCATION:Schutzhütte Ederbringhausen\,34516 Ederbringhausen - Vöhl\,Germany
SUMMARY:Laternenumzug
URL:https://voehl.de/index.php?option=com_jem&view=event&id=1171:laternenum
 zug
END:VEVENT
BEGIN:VEVENT
UID:event1188@Nationalparkgemeinde Vöhl am Edersee
DTSTAMP:20260421T104716Z
CATEGORIES:Kultur
DESCRIPTION:Nikolausveranstaltung\nKategorie: Kultur\nICS-Link: https://voe
 hl.de/index.php?option=com_jem&view=event&id=1188:nikolausveranstaltung\n
DTSTART:20261206T170000Z
DTEND:20261206T170000Z
LOCATION:Schutzhütte Ederbringhausen\,34516 Ederbringhausen - Vöhl\,Germany
SUMMARY:Nikolausveranstaltung
URL:https://voehl.de/index.php?option=com_jem&view=event&id=1188:nikolausve
 ranstaltung
END:VEVENT
BEGIN:VEVENT
UID:event1298@Nationalparkgemeinde Vöhl am Edersee
DTSTAMP:20260421T104716Z
CATEGORIES:Kultur
DESCRIPTION:Synagogenkonzert\nKategorie: Kultur\nICS-Link: https://voehl.de
 /index.php?option=com_jem&view=event&id=1298:synagogenkonzert\n
DTSTART:20260510T180000Z
DTEND:20260510T180000Z
LOCATION:Synagoge Vöhl\,Mittelgasse 4\,34516 Vöhl
SUMMARY:Synagogenkonzert
URL:https://voehl.de/index.php?option=com_jem&view=event&id=1298:synagogenk
 onzert
END:VEVENT
BEGIN:VEVENT
UID:event1231@Nationalparkgemeinde Vöhl am Edersee
DTSTAMP:20260421T104716Z
CATEGORIES:Kultur
DESCRIPTION:200. Synagogenkonzert\nKategorie: Kultur\nICS-Link: https://voe
 hl.de/index.php?option=com_jem&view=event&id=1231:200-synagogenkonzert\n
DTSTART:20260627T190000Z
DTEND:20260627T190000Z
LOCATION:Synagoge Vöhl\,Mittelgasse 4\,34516 Vöhl
SUMMARY:200. Synagogenkonzert
URL:https://voehl.de/index.php?option=com_jem&view=event&id=1231:200-synago
 genkonzert
END:VEVENT
BEGIN:VEVENT
UID:event1299@Nationalparkgemeinde Vöhl am Edersee
DTSTAMP:20260421T104716Z
CATEGORIES:Kultur
DESCRIPTION:Dienstagskino\nKategorie: Kultur\nICS-Link: https://voehl.de/in
 dex.php?option=com_jem&view=event&id=1299:dienstagskino\n
DTSTART:20260512T190000Z
DTEND:20260512T190000Z
LOCATION:Synagoge Vöhl\,Mittelgasse 4\,34516 Vöhl
SUMMARY:Dienstagskino
URL:https://voehl.de/index.php?option=com_jem&view=event&id=1299:dienstagsk
 ino
END:VEVENT
BEGIN:VEVENT
UID:event1226@Nationalparkgemeinde Vöhl am Edersee
DTSTAMP:20260421T104716Z
CATEGORIES:Kultur
DESCRIPTION:Vorstellung der Landkulturboten\nKategorie: Kultur\nICS-Link: h
 ttps://voehl.de/index.php?option=com_jem&view=event&id=1226:vorstellung-de
 r-landkulturboten\n
DTSTART:20260618T190000Z
DTEND:20260618T190000Z
LOCATION:Synagoge Vöhl\,Mittelgasse 4\,34516 Vöhl
SUMMARY:Vorstellung der Landkulturboten
URL:https://voehl.de/index.php?option=com_jem&view=event&id=1226:vorstellun
 g-der-landkulturboten
END:VEVENT
BEGIN:VEVENT
UID:event1125@Nationalparkgemeinde Vöhl am Edersee
DTSTAMP:20260421T104716Z
CATEGORIES:Kultur
DESCRIPTION:Oktoberfest\nKategorie: Kultur\nICS-Link: https://voehl.de/inde
 x.php?option=com_jem&view=event&id=1125:oktoberfest\n
DTSTART:20261024T193000Z
DTEND:20261024T193000Z
LOCATION:DGH Obernburg\,Wilhelmstraße 3\,34516 Vöhl-Obernburg
SUMMARY:Oktoberfest
URL:https://voehl.de/index.php?option=com_jem&view=event&id=1125:oktoberfes
 t
END:VEVENT
END:VCALENDAR