BEGIN:VCALENDAR
VERSION:2.0
PRODID:-//91.233.84.230//NONSGML kigkonsult.se iCalcreator 2.20//
CALSCALE:GREGORIAN
METHOD:PUBLISH
X-WR-TIMEZONE:UTC
BEGIN:VEVENT
UID:event1185@Nationalparkgemeinde Vöhl am Edersee
DTSTAMP:20260421T190316Z
CATEGORIES:Überörtliche Events
DESCRIPTION:Weihnachtsmarkt\nKategorie: Überörtliche Events\nICS-Link: http
 s://voehl.de/index.php?option=com_jem&view=event&id=1185:weihnachtsmarkt\n
DTSTART:20261218T120000Z
DTEND:20261218T120000Z
LOCATION:Parkplatz Edeka Markt Rommel\,Zum Steinberg\,34516 Vöhl\,Germany
SUMMARY:Weihnachtsmarkt
URL:https://voehl.de/index.php?option=com_jem&view=event&id=1185:weihnachts
 markt
END:VEVENT
END:VCALENDAR